BEGIN:VCALENDAR
PRODID:-//eluceo/ical//2.0/EN
VERSION:2.0
CALSCALE:GREGORIAN
BEGIN:VEVENT
UID:c69b2a3945361e5799edf9ffa6a77b96
DTSTAMP:20260419T174142Z
SUMMARY:Volvons dag infaller den 14 april 2026.
DESCRIPTION:Website: https://gavle-forsbacka.rotary2330.se/sv/\nSpeaker(s):
  Håkan PetterssonVolvons dag infaller den 14 april 2026. Detta datum är
  historiskt signifikant eftersom den första serietillverkade Volvobilen\,
  "Jakob" (ÖV4)\, rullade ut från fabriken i Göteborg den 14 april 1927.
   
URL:https://gavle-forsbacka.rotary2335.se/en/agenda/show/218333
DTSTART;TZID=Europe/Zurich:20260415T120000
DTEND;TZID=Europe/Zurich:20260415T130000
LOCATION:Forsbacka Wärdshus\, Värdshusvägen 22\, 81842 Forsbacka\, Sveri
 ge
CATEGORIES:Rotary
END:VEVENT
BEGIN:VTIMEZONE
TZID:Europe/Zurich
BEGIN:DAYLIGHT
DTSTART:20260415T120000
TZNAME:CEST
TZOFFSETTO:+0200
TZOFFSETFROM:+0200
END:DAYLIGHT
END:VTIMEZONE
END:VCALENDAR
